BEGIN:VCALENDAR
VERSION:2.0
PRODID:-//Townsville Brothers Leagues Club - ECPv4.9.13//NONSGML v1.0//EN
CALSCALE:GREGORIAN
METHOD:PUBLISH
X-WR-CALNAME:Townsville Brothers Leagues Club
X-ORIGINAL-URL:https://brotherstsv.com.au
X-WR-CALDESC:Events for Townsville Brothers Leagues Club
BEGIN:VTIMEZONE
TZID:UTC
BEGIN:STANDARD
TZOFFSETFROM:+0000
TZOFFSETTO:+0000
TZNAME:UTC
DTSTART:20200101T000000
END:STANDARD
END:VTIMEZONE
BEGIN:VEVENT
DTSTART;TZID=UTC:20200603T190000
DTEND;TZID=UTC:20200603T220000
DTSTAMP:20260421T132806
CREATED:20200113T025011Z
LAST-MODIFIED:20200113T025011Z
UID:6306-1591210800-1591221600@brotherstsv.com.au
SUMMARY:Deb Webber Psychic Medium Show
DESCRIPTION:Experience an evening with spirit where you will connect with your past loved ones with Australia’s Most Loved Psychic Medium Deb Webber – Psychic Medium. \nThe doors open at 7pm and the show starts at 7:30pm. Then famous Psychic Medium Deb Webber will walk through the audience\, giving spontaneous readings and connecting those chosen audience members with their loved ones in spirit. Sometimes the souls are cheeky\, sometimes sad\, sometimes humorous but they are always inspiring for those chosen and for those who witness the extraordinary detail that Deb can bring through from spirit. \nTickets on sale now via the event link. \n
URL:https://brotherstsv.com.au/event/deb-webber-psychic-medium-show/
LOCATION:Brothers Leagues Club Townsville\, 14 Golf Links Drive\, Townsville\, Queensland\, 4817\, Australia
ATTACH;FMTTYPE=image/jpeg:https://brotherstsv.com.au/wp-content/uploads/2020/01/Deb-Webber-Show-Multi.jpg
ORGANIZER;CN="Brothers%20Leagues%20Club%20Townsville":MAILTO:reception@brotherstsv.com.au
END:VEVENT
END:VCALENDAR