BEGIN:VCALENDAR
VERSION:2.0
PRODID:-//Townsville Brothers Leagues Club - ECPv4.9.13//NONSGML v1.0//EN
CALSCALE:GREGORIAN
METHOD:PUBLISH
X-WR-CALNAME:Townsville Brothers Leagues Club
X-ORIGINAL-URL:https://brotherstsv.com.au
X-WR-CALDESC:Events for Townsville Brothers Leagues Club
BEGIN:VTIMEZONE
TZID:UTC
BEGIN:STANDARD
TZOFFSETFROM:+0000
TZOFFSETTO:+0000
TZNAME:UTC
DTSTART:20220101T000000
END:STANDARD
END:VTIMEZONE
BEGIN:VEVENT
DTSTART;TZID=UTC:20220430T193000
DTEND;TZID=UTC:20220430T223000
DTSTAMP:20260421T120418
CREATED:20211222T044019Z
LAST-MODIFIED:20211222T044019Z
UID:7694-1651347000-1651357800@brotherstsv.com.au
SUMMARY:Graeme Connors Show
DESCRIPTION:\nWith his 2021 Groundwater Festival performance a beautiful memory now\, Graeme Connors and his band are eagerly awaiting the new year and a show in Townsville… Tickets are on sale now!\n\n\n\nCould it be the perfect Christmas gift for all lovers of great Australian music?\n\n\n\nSee Brothers reception or call 4773 8000 to book.\n\n\n
URL:https://brotherstsv.com.au/event/graeme-connors-show/
LOCATION:Brothers Leagues Club Townsville\, 14 Golf Links Drive\, Townsville\, Queensland\, 4817\, Australia
ATTACH;FMTTYPE=image/jpeg:https://brotherstsv.com.au/wp-content/uploads/2021/12/Graeme-Connors-Multi.jpg
ORGANIZER;CN="Brothers%20Leagues%20Club%20Townsville":MAILTO:reception@brotherstsv.com.au
END:VEVENT
END:VCALENDAR