BEGIN:VCALENDAR
VERSION:2.0
PRODID:-//Townsville Brothers Leagues Club - ECPv4.9.13//NONSGML v1.0//EN
CALSCALE:GREGORIAN
METHOD:PUBLISH
X-WR-CALNAME:Townsville Brothers Leagues Club
X-ORIGINAL-URL:https://brotherstsv.com.au
X-WR-CALDESC:Events for Townsville Brothers Leagues Club
BEGIN:VTIMEZONE
TZID:UTC
BEGIN:STANDARD
TZOFFSETFROM:+0000
TZOFFSETTO:+0000
TZNAME:UTC
DTSTART:20210101T000000
END:STANDARD
END:VTIMEZONE
BEGIN:VEVENT
DTSTART;TZID=UTC:20211029T180000
DTEND;TZID=UTC:20211029T210000
DTSTAMP:20260421T120122
CREATED:20211011T040420Z
LAST-MODIFIED:20211011T042240Z
UID:7559-1635530400-1635541200@brotherstsv.com.au
SUMMARY:Kids Night Spooktacular
DESCRIPTION:We’re back from the dead… Don’t miss our KIDS NIGHT SPOOKTACULAR! \nCall 4773 8000 for more information. \n \n
URL:https://brotherstsv.com.au/event/kids-night-spooktacular/
LOCATION:Brothers Leagues Club Townsville\, 14 Golf Links Drive\, Townsville\, Queensland\, 4817\, Australia
ATTACH;FMTTYPE=image/jpeg:https://brotherstsv.com.au/wp-content/uploads/2021/10/Kids-Night-Spooktacular-Facebook.jpg
ORGANIZER;CN="Brothers%20Leagues%20Club%20Townsville":MAILTO:reception@brotherstsv.com.au
END:VEVENT
END:VCALENDAR