BEGIN:VCALENDAR
VERSION:2.0
PRODID:-//Townsville Brothers Leagues Club - ECPv4.9.13//NONSGML v1.0//EN
CALSCALE:GREGORIAN
METHOD:PUBLISH
X-WR-CALNAME:Townsville Brothers Leagues Club
X-ORIGINAL-URL:https://brotherstsv.com.au
X-WR-CALDESC:Events for Townsville Brothers Leagues Club
BEGIN:VTIMEZONE
TZID:UTC
BEGIN:STANDARD
TZOFFSETFROM:+0000
TZOFFSETTO:+0000
TZNAME:UTC
DTSTART:20200101T000000
END:STANDARD
END:VTIMEZONE
BEGIN:VEVENT
DTSTART;TZID=UTC:20200208T160000
DTEND;TZID=UTC:20200208T200000
DTSTAMP:20260421T133822
CREATED:20200122T041836Z
LAST-MODIFIED:20200128T022615Z
UID:6338-1581177600-1581192000@brotherstsv.com.au
SUMMARY:Reclining Rockers Show
DESCRIPTION:The Reclining Rockers will return to Brothers Leagues Club on Saturday 8th February between 4-8pm on the deck (Garden Bar currently undergoing renovations). Free show! \nYou must be a Brothers Leagues Club Townsville/Kirwan Sports Club member\, guest of a member or member of a reciprocal club to enter the club. Membership is just $2. \n
URL:https://brotherstsv.com.au/event/reclining-rockers-show-4/
LOCATION:Brothers Leagues Club Townsville\, 14 Golf Links Drive\, Townsville\, Queensland\, 4817\, Australia
ATTACH;FMTTYPE=image/jpeg:https://brotherstsv.com.au/wp-content/uploads/2020/01/Reclining-Rockers-Facebook-Event-Cover.jpg
END:VEVENT
END:VCALENDAR