BEGIN:VCALENDAR
VERSION:2.0
PRODID:-//Townsville Brothers Leagues Club - ECPv4.9.13//NONSGML v1.0//EN
CALSCALE:GREGORIAN
METHOD:PUBLISH
X-WR-CALNAME:Townsville Brothers Leagues Club
X-ORIGINAL-URL:https://brotherstsv.com.au
X-WR-CALDESC:Events for Townsville Brothers Leagues Club
BEGIN:VTIMEZONE
TZID:UTC
BEGIN:STANDARD
TZOFFSETFROM:+0000
TZOFFSETTO:+0000
TZNAME:UTC
DTSTART:20210101T000000
END:STANDARD
END:VTIMEZONE
BEGIN:VEVENT
DTSTART;TZID=UTC:20211030T150000
DTEND;TZID=UTC:20211030T200000
DTSTAMP:20260421T120233
CREATED:20210924T040741Z
LAST-MODIFIED:20211013T001304Z
UID:7528-1635606000-1635624000@brotherstsv.com.au
SUMMARY:Victory Birthday Beach Bash
DESCRIPTION:\nJoin us at our VICTORY BIRTHDAY BEACH BASH as we celebrate Victory’s 1st Birthday!\n\n\n\n\n\n\n
URL:https://brotherstsv.com.au/event/victory-birthday-beach-bash/
LOCATION:Brothers Leagues Club Townsville\, 14 Golf Links Drive\, Townsville\, Queensland\, 4817\, Australia
ATTACH;FMTTYPE=image/jpeg:https://brotherstsv.com.au/wp-content/uploads/2021/09/Victory-Birthday-Beach-Bash-Multi2.jpg
ORGANIZER;CN="Brothers%20Leagues%20Club%20Townsville":MAILTO:reception@brotherstsv.com.au
END:VEVENT
END:VCALENDAR