BEGIN:VCALENDAR
VERSION:2.0
PRODID:-//Townsville Brothers Leagues Club - ECPv4.9.13//NONSGML v1.0//EN
CALSCALE:GREGORIAN
METHOD:PUBLISH
X-WR-CALNAME:Townsville Brothers Leagues Club
X-ORIGINAL-URL:https://brotherstsv.com.au
X-WR-CALDESC:Events for Townsville Brothers Leagues Club
BEGIN:VTIMEZONE
TZID:UTC
BEGIN:STANDARD
TZOFFSETFROM:+0000
TZOFFSETTO:+0000
TZNAME:UTC
DTSTART:20190101T000000
END:STANDARD
END:VTIMEZONE
BEGIN:VEVENT
DTSTART;TZID=UTC:20191219T183000
DTEND;TZID=UTC:20191219T223000
DTSTAMP:20260421T133828
CREATED:20191119T223839Z
LAST-MODIFIED:20191119T223937Z
UID:6215-1576780200-1576794600@brotherstsv.com.au
SUMMARY:Wine Dinner
DESCRIPTION:Celebrate the festive season at our next Wine Dinner on Thursday 19th December. Tickets $80 Members ($90 Non-Members) and includes champagne on arrival and a delicious 4 course dinner paired with wines. Doors open 6:30pm for a 7pm start. \nLimited tickets available. Call 4773 8000 to book. \nMenu\nPlease note that this is a set menu and no alternations can be made to dishes. \nArrival\nO’Leary Walker Hurtle Sparkling \n1st Course\n2019 O’Leary Walker Polish Hill River Riesling\nMoreton Bay Bug with sweetcorn sabayon\, honey melon\, yuzu\, tempura oyster \n2nd Course\n2018 O’Leary Walker Adelaide Hills Chardonnay\nOcean Trout with fetta stuffed zucchini blossoms\, lavender honey \n3rd Course\n2017 O’Leary Walker Clare Valley Shiraz\nWagyu Sirloin with celeriac cream\, spinach\, swiss browns \n4th Course\nYalumba Antique Muscat Liqueur\nPina Colada Tres Leches \n
URL:https://brotherstsv.com.au/event/wine-dinner/
ATTACH;FMTTYPE=image/jpeg:https://brotherstsv.com.au/wp-content/uploads/2019/11/12-19-Wine-Dinner-Facebook-Event-Cover.jpg
ORGANIZER;CN="Brothers%20Leagues%20Club%20Townsville":MAILTO:reception@brotherstsv.com.au
END:VEVENT
END:VCALENDAR